BEGIN:VCALENDAR
VERSION:2.0
PRODID:-//Tukios.com/
BEGIN:VEVENT
UID:c8714301-ad45-4e28-a80c-ccc39c40971d@www.fdoylefuneralhome.com
DTSTAMP:20260420T235611Z
DTSTART:20260422T143000Z
DTEND:20260422T160000Z
SUMMARY:Visitation
DESCRIPTION:
URL:https://www.fdoylefuneralhome.com/obituaries/trudy-mills
LOCATION: 400 Westchester Place  Slidell LA 70458
GEO:30.2751945;-89.7811745
END:VEVENT
END:VCALENDAR