BEGIN:VCALENDAR
VERSION:2.0
PRODID:-//Tukios.com/
BEGIN:VEVENT
UID:aaf86d0e-fc96-4de2-a426-f83e63a91c0b@www.fdoylefuneralhome.com
DTSTAMP:20260420T235358Z
DTSTART:20260422T160000Z
DTEND:20260422T170000Z
SUMMARY:Mass
DESCRIPTION:
URL:https://www.fdoylefuneralhome.com/obituaries/trudy-mills
LOCATION:Our Lady of Lourdes Church 400 Westchester Place  Slidell LA 
	70458
GEO:30.2751945;-89.7811745
END:VEVENT
END:VCALENDAR